BEGIN:VCALENDAR
VERSION:2.0
PRODID:-//Library Market//iCal Export//EN
BEGIN:VEVENT
SUMMARY:Flasher - City Park
UID:14970
DTSTAMP:20260426T025400Z
DTSTART:20260707T150000Z
DTEND:20260707T170000Z
LOCATION:Flasher City Park, 351 Main St S, Flasher, ND 58535, United State
 s
ROOM: Flasher - City Park
DESCRIPTION:
URL:https://mortonmandan.librarycalendar.com/event/flasher-city-park-14970
END:VEVENT
END:VCALENDAR
