BEGIN:VCALENDAR
VERSION:2.0
PRODID:-//Library Market//iCal Export//EN
BEGIN:VEVENT
SUMMARY:Flasher - City Park
UID:14968
DTSTAMP:20260425T154600Z
DTSTART:20260602T150000Z
DTEND:20260602T170000Z
LOCATION:Flasher City Park, 351 Main St S, Flasher, ND 58535, United State
 s
ROOM: Flasher - City Park
DESCRIPTION:
URL:https://mortonmandan.librarycalendar.com/event/flasher-city-park-14968
END:VEVENT
END:VCALENDAR
