BEGIN:VCALENDAR
VERSION:2.0
PRODID:-//Library Market//iCal Export//EN
BEGIN:VEVENT
SUMMARY:Elm Crest
UID:14966
DTSTAMP:20260425T154600Z
DTSTART:20260714T171500Z
DTEND:20260714T174500Z
LOCATION:Elm Crest, 100 Elm Ave, New Salem, ND 58563, United States
ROOM: Elm Crest
DESCRIPTION:
URL:https://mortonmandan.librarycalendar.com/event/elm-crest-14966
END:VEVENT
END:VCALENDAR
