BEGIN:VCALENDAR
VERSION:2.0
PRODID:-//Library Market//iCal Export//EN
BEGIN:VEVENT
SUMMARY:Lewis &amp; Clark Elementary
UID:14955
DTSTAMP:20260425T154600Z
DTSTART:20260701T190000Z
DTEND:20260701T210000Z
LOCATION:Lewis &amp; Clark Elementary, 600 14th St NW, Mandan, ND 58554, U
 nited States
ROOM: Lewis &amp; Clark Elementary
DESCRIPTION:
URL:https://mortonmandan.librarycalendar.com/event/lewis-clark-elementary-
 14955
END:VEVENT
END:VCALENDAR
