BEGIN:VCALENDAR
VERSION:2.0
PRODID:-//Library Market//iCal Export//EN
BEGIN:VEVENT
SUMMARY:Kiwanis Park
UID:14943
DTSTAMP:20260426T025400Z
DTSTART:20260820T161500Z
DTEND:20260820T171500Z
LOCATION:Kiwanis Park, 201 3rd St SW, Mandan, ND 58554, United States
ROOM: Kiwanis Park
DESCRIPTION:
URL:https://mortonmandan.librarycalendar.com/event/kiwanis-park-14943
END:VEVENT
END:VCALENDAR
