BEGIN:VCALENDAR
VERSION:2.0
PRODID:-//Library Market//iCal Export//EN
BEGIN:VEVENT
SUMMARY:Centre Inc.
UID:14854
DTSTAMP:20260425T154600Z
DTSTART:20260812T191500Z
DTEND:20260812T201500Z
LOCATION:Centre Inc., 100 6th Ave SE, Mandan, ND 58554, United States
ROOM: Centre Inc.
DESCRIPTION:
URL:https://mortonmandan.librarycalendar.com/event/centre-inc-14854
END:VEVENT
END:VCALENDAR
