BEGIN:VCALENDAR
VERSION:2.0
PRODID:-//Library Market//iCal Export//EN
BEGIN:VEVENT
SUMMARY:Make Your Own Valentine Cards: Teens &amp; Tweens
UID:13694
DTSTAMP:20260419T141300Z
DTSTART:20260207T170000Z
DTEND:20260207T200000Z
LOCATION:Morton Mandan Public Library, 609 W Main St, Mandan, ND 58554, Un
 ited States
ROOM: Teen Zone
DESCRIPTION:Did you know that the tradition of exchanging Valentine&#039;s
  Day cards dates back as far as the middle ages? Although often associated
  with romance, Valentine&#039;s Day is also a great opportunity to express
  affection and appreciation for other loved ones in your life too, whether
  it&#039;s a family member or a good friend. A handmade card can make some
 one&#039;s day! Teens and Tweens are invited to drop by the Teen Zone anyt
 ime between 11am and 2pm to make their own Valentine&#039;s Day cards. Old
 -fashioned, traditional, quirky, and funny, we&#039;ve got the supplies, j
 ust bring your creativity! Registration helps us plan for supplies, but f
 eel free to come by even if you aren&#039;t registered!
URL:https://mortonmandan.librarycalendar.com/event/make-your-own-valentine
 -cards-teens-tweens-13694
END:VEVENT
END:VCALENDAR
