BEGIN:VCALENDAR
VERSION:2.0
PRODID:-//Library Market//iCal Export//EN
BEGIN:VEVENT
SUMMARY:Blood Pressure Checks: provided by Western Plains Public Health
UID:13693
DTSTAMP:20260419T141300Z
DTSTART:20260219T160000Z
DTEND:20260219T180000Z
LOCATION:Morton Mandan Public Library, 609 W Main St, Mandan, ND 58554, Un
 ited States
ROOM: Breezeway
DESCRIPTION:Hearts are certainly the theme this February! Join us at MMPL 
 for a free community blood pressure check with Western Plains Public Healt
 h. It’s quick, easy, and a great way to stay proactive about your heart 
 health. Open to all—no appointment needed.
URL:https://mortonmandan.librarycalendar.com/event/copy-blood-pressure-che
 cks-provided-western-plains-public-health-13693
END:VEVENT
END:VCALENDAR
