BEGIN:VCALENDAR
VERSION:2.0
PRODID:-//Library Market//iCal Export//EN
BEGIN:VEVENT
SUMMARY:Holiday Puzzlemania: Swap or Construct!
UID:12800
DTSTAMP:20260419T141300Z
DTSTART:20260106T230000Z
DTEND:20260107T010000Z
LOCATION:United States
ROOM: Community Room
DESCRIPTION:What is more magical than gazing out to the park with lights a
 s you sip on hot chocolate, tea or cider while you piece together puzzles 
 with your friends? If assembling a puzzle in company is not your thing, th
 en come with your completed puzzles and SWAP them with others during this 
 time.Either way you look at it, we guarantee a cozy space to gather and be
  still. Join us for an evening of relaxation, refreshments with snacks whi
 le you piece together your ideal evening at MMPL.
URL:https://mortonmandan.librarycalendar.com/event/holiday-puzzlemania-puz
 zle-swap-and-social-12800
END:VEVENT
END:VCALENDAR
